BEGIN:VCALENDAR
VERSION:2.0
PRODID:icalendar-ruby
CALSCALE:GREGORIAN
BEGIN:VEVENT
DTSTAMP:20260422T165243Z
UID:3f69d35f-9321-4bba-9bac-eb94866d060f
DTSTART:20260921T090000Z
DTEND:20260925T170000Z
DESCRIPTION:XTOP 2026 brings together scientists working in X-ray diffracto
 metry and reflectometry\, coherent and conventional X-ray diffraction imag
 ing and topography\, as well as 2D and 3D X-ray imaging using phase contra
 st and complementary contrast mechanisms. The conference is a leading foru
 m for laboratory- and synchrotron-based methods\, instrumentation\, and ap
 plications.\n\n**Important dates:**\n\n- Opening date for submission of ab
 stracts: **31 March 2026**\n- Deadline for submission of abstracts: **11 M
 ay 2026**\n- Early-bird registration deadline: **14 June 2026**\n- Deadlin
 e for late registration: **20 August 2026**
LOCATION:Karlsruhe\, Germany
SUMMARY:XTOP 2026 – 16th Conference on High-Resolution X-ray Diffraction 
 and Imaging
URL;VALUE=URI:https://www.xtop2026.kit.edu/
END:VEVENT
END:VCALENDAR
