BEGIN:VCALENDAR
VERSION:2.0
PRODID:icalendar-ruby
CALSCALE:GREGORIAN
BEGIN:VEVENT
DTSTAMP:20260422T092914Z
UID:c6d4c237-01c1-4273-b73b-405963f0c782
DTSTART:20260621T090000Z
DTEND:20260626T170000Z
DESCRIPTION:Key dates for XAFS2026:\n\n| Abstract submission deadline | Jan
 uary 31\, 2026 |\n| | |\n| Early-bird registration deadline        | 
 March 31\, 2026 |\n| Regular registration deadline | May 31\, 2026 |\n| Co
 nference dates | June 21-26\, 2026 |\n| Proceedings submission opens on | 
 June 1\, 2026 |\n| Proceedings submission deadline | July 31\, 2026 |
LOCATION:The Empress Convention Center and Hotel\, Chiang Mai\, Thailand
SUMMARY:The 19th International Conference on X-ray Absorption Fine Structu
 re (XAFS2026)
URL;VALUE=URI:https://xafs2026.org/XAFS2026/
END:VEVENT
END:VCALENDAR
