BEGIN:VCALENDAR
VERSION:2.0
PRODID:icalendar-ruby
CALSCALE:GREGORIAN
BEGIN:VEVENT
DTSTAMP:20260422T155819Z
UID:2f9d62d7-cf9b-4050-8dd6-7e14e015cb52
DTSTART:20260602T090000Z
DTEND:20260602T170000Z
DESCRIPTION:Save the Date for the annual CHESS Users’ Meeting:  **Tuesda
 y\, June 2nd\, 2026**\n\n**Updates from CHESS:**\n\nCHESS leadership\, alo
 ng with program directors and staff\, will provide updates on the latest 
 developments within the lab and its surrounding ecosystem.\n\n**User Scien
 ce Talks:**\n\nWe are extending invitations to experts from diverse scient
 ific domains to share insights into their research endeavors and explain C
 HESS’s role in their respective fields.\n\n**CHESS Student Paper Award**
 \n\nEvery year\, we recognize the best publication by a student published 
 during the past year with the CHESS Student Paper Award. The award includ
 es an invited presentation at the User Meeting. Please consider nominatin
 g an outstanding student\, and their work\, for the CHESS student paper aw
 ard. \n\nThere will be more details to come regarding the specifics of th
 is year’s meeting\, and it’s events. But\, if you have questions pleas
 e reach out to the [**CHESS Users Office**](mailto:chessuseroffice@corn
 ell.edu) at anytime.
LOCATION:CHESS\, Ithaca\, NY 14853\, USA
SUMMARY:CHESS Users’ Meeting 2026 – Save the Date
URL;VALUE=URI:https://www.chess.cornell.edu/save-date-chess-users-meeting-2
 026
END:VEVENT
END:VCALENDAR
