BEGIN:VCALENDAR
VERSION:2.0
PRODID:icalendar-ruby
CALSCALE:GREGORIAN
BEGIN:VEVENT
DTSTAMP:20260422T155819Z
UID:427d920c-40f4-40ba-9065-198d9ab5f717
DTSTART:20260504T090000Z
DTEND:20260508T170000Z
DESCRIPTION:###### Registration now open for the 2026 APS/CNM Users Meeting
  (May 4-8\, 2026)\n\nRegistration is now open for the [2026 APS/CNM Users
  Meeting](https://www.aps.anl.gov/Users-Information/User-Community/Users-M
 eetings)\, an exciting week of user science presentations\, workshops\, fa
 cility updates\, and more! \n\nHighlights\n\n- Banquet at the Brookfield 
 Zoo\n- Opening plenary session featuring keynote presentation by Ted Sarge
 nt (Northwestern University)\n- DOE Perspective\n- Plenary sessions that h
 ighlight APS- and CNM-driven research advancements\n- Poster session open 
 to all attendees\n- Tours of APS and CNM facilities\n- Workshops on emergi
 ng trends in science\n- Vendor exhibits\n\nKey Deadlines\n\n- March 23\, 2
 026: Poster abstracts due\n- April 20\, 2026\, 5 p.m. CDT: Registration cl
 oses
LOCATION:Argonne National Laboratory\, Lemont\, Illinois\, USA
SUMMARY:2026 APS/CNM Users Meeting
URL;VALUE=URI:https://www.aps.anl.gov/APS-News/2026-01-22/registration-now-
 open-for-the-2026-apscnm-users-meeting-may-4-8-2026/2026-01-22
END:VEVENT
END:VCALENDAR
