BEGIN:VCALENDAR
VERSION:2.0
PRODID:icalendar-ruby
CALSCALE:GREGORIAN
BEGIN:VEVENT
DTSTAMP:20260422T075152Z
UID:90b985c9-47b2-46ea-8914-4473a122ca19
DTSTART:20260720T090000Z
DTEND:20260723T170000Z
DESCRIPTION:The conference will convene an international community of resea
 rchers investigating surfaces and interfaces across solid\, liquid\, biolo
 gical\, and soft and hard condensed-matter systems using advanced X-ray an
 d neutron scattering techniques. The scientific program will highlight rec
 ent advances in instrumentation and data analysis\, nanostructured surface
 s and interfaces\, soft-matter and biological interfaces\, magnetic thin f
 ilms and proximity effects\, topological and other emergent interfacial ma
 terials\, and the static and dynamic behavior of surfaces\, interfaces\, a
 nd nanoscale structures.
LOCATION:Advanced Photon Source (APS) Conference Center\, Argonne National 
 Laboratory\, Lemont\, IL\, US
SUMMARY:18th International Conference on Surface X-ray and Neutron Scatter
 ing (SXNS18)
URL;VALUE=URI:https://www.anl.gov/event/SXNS18
END:VEVENT
END:VCALENDAR
